BEGIN:VCALENDAR
VERSION:2.0
PRODID:-//Slapton Parish Council//Meeting Calendar//EN
CALSCALE:GREGORIAN
METHOD:PUBLISH
BEGIN:VEVENT
UID:75043-20260302@slaptonparishcouncil-devon.gov.uk
DTSTAMP:20260420T081411Z
DTSTART;VALUE=DATE:20260302
DTEND;VALUE=DATE:20260303
SUMMARY:Council Meeting &#8211\\; 2nd March 2026
DESCRIPTION:Full Council Meeting\nView details: https://slaptonparishcouncil-devon.gov.uk/meetings/council-meeting-2nd-march-2026/
URL:https://slaptonparishcouncil-devon.gov.uk/meetings/council-meeting-2nd-march-2026/
END:VEVENT
END:VCALENDAR
