BEGIN:VCALENDAR
VERSION:2.0
PRODID:-//Slapton Parish Council//Meeting Calendar//EN
CALSCALE:GREGORIAN
METHOD:PUBLISH
BEGIN:VEVENT
UID:74663-20250707@slaptonparishcouncil-devon.gov.uk
DTSTAMP:20260420T080345Z
DTSTART;VALUE=DATE:20250707
DTEND;VALUE=DATE:20250708
SUMMARY:Council Meeting &#8211\\; 7th July 2025
DESCRIPTION:Full Council Meeting\nView details: https://slaptonparishcouncil-devon.gov.uk/meetings/council-meeting-7th-july/
URL:https://slaptonparishcouncil-devon.gov.uk/meetings/council-meeting-7th-july/
END:VEVENT
END:VCALENDAR
