BEGIN:VCALENDAR
VERSION:2.0
PRODID:-//Slapton Parish Council//Meeting Calendar//EN
CALSCALE:GREGORIAN
METHOD:PUBLISH
BEGIN:VEVENT
UID:74308-20250407@slaptonparishcouncil-devon.gov.uk
DTSTAMP:20260420T080059Z
DTSTART;VALUE=DATE:20250407
DTEND;VALUE=DATE:20250408
SUMMARY:Council Meeting &#8211\\; 7th April 2025
DESCRIPTION:Full Council Meeting\nView details: https://slaptonparishcouncil-devon.gov.uk/meetings/council-meeting-7th-april-2025/
URL:https://slaptonparishcouncil-devon.gov.uk/meetings/council-meeting-7th-april-2025/
END:VEVENT
END:VCALENDAR
