BEGIN:VCALENDAR
VERSION:2.0
PRODID:-//Slapton Parish Council//Meeting Calendar//EN
CALSCALE:GREGORIAN
METHOD:PUBLISH
BEGIN:VEVENT
UID:73701-20240731@slaptonparishcouncil-devon.gov.uk
DTSTAMP:20260421T082154Z
DTSTART;VALUE=DATE:20240731
DTEND;VALUE=DATE:20240801
SUMMARY:CSG Committee Meeting &#8211\\; 31st July
DESCRIPTION:Community Support Group Meeting\nView details: https://slaptonparishcouncil-devon.gov.uk/meetings/csg-committee-meeting-31st-july/
URL:https://slaptonparishcouncil-devon.gov.uk/meetings/csg-committee-meeting-31st-july/
END:VEVENT
END:VCALENDAR
