BEGIN:VCALENDAR
VERSION:2.0
PRODID:-//Slapton Parish Council//Meeting Calendar//EN
CALSCALE:GREGORIAN
METHOD:PUBLISH
BEGIN:VEVENT
UID:73422-20240513@slaptonparishcouncil-devon.gov.uk
DTSTAMP:20260422T083751Z
DTSTART;VALUE=DATE:20240513
DTEND;VALUE=DATE:20240514
SUMMARY:Annual Meeting of the Parish Council &#8211\\; 13th May 2024
DESCRIPTION:Full Council Meeting\nView details: https://slaptonparishcouncil-devon.gov.uk/meetings/annual-meeting-of-the-parish-council-13th-may-2024/
URL:https://slaptonparishcouncil-devon.gov.uk/meetings/annual-meeting-of-the-parish-council-13th-may-2024/
END:VEVENT
END:VCALENDAR
