BEGIN:VCALENDAR
VERSION:2.0
PRODID:-//Slapton Parish Council//Meeting Calendar//EN
CALSCALE:GREGORIAN
METHOD:PUBLISH
BEGIN:VEVENT
UID:71359-20230605@slaptonparishcouncil-devon.gov.uk
DTSTAMP:20260424T081927Z
DTSTART;VALUE=DATE:20230605
DTEND;VALUE=DATE:20230606
SUMMARY:CSG Committee Meeting &#8211\\; 7th June 2023
DESCRIPTION:Community Support Group Meeting\nView details: https://slaptonparishcouncil-devon.gov.uk/meetings/community-support-group-meeting-7th-june-2023/
URL:https://slaptonparishcouncil-devon.gov.uk/meetings/community-support-group-meeting-7th-june-2023/
END:VEVENT
END:VCALENDAR
