BEGIN:VCALENDAR
VERSION:2.0
PRODID:-//Slapton Parish Council//Meeting Calendar//EN
CALSCALE:GREGORIAN
METHOD:PUBLISH
BEGIN:VEVENT
UID:70801-20230306@slaptonparishcouncil-devon.gov.uk
DTSTAMP:20260422T083640Z
DTSTART;VALUE=DATE:20230306
DTEND;VALUE=DATE:20230307
SUMMARY:CSG Annual Committee Meeting 6th March 2023
DESCRIPTION:Community Support Group Meeting\nView details: https://slaptonparishcouncil-devon.gov.uk/meetings/csg-annual-committee-meeting/
URL:https://slaptonparishcouncil-devon.gov.uk/meetings/csg-annual-committee-meeting/
END:VEVENT
END:VCALENDAR
