BEGIN:VCALENDAR
VERSION:2.0
PRODID:-//Slapton Parish Council//Meeting Calendar//EN
CALSCALE:GREGORIAN
METHOD:PUBLISH
BEGIN:VEVENT
UID:70502-20221107@slaptonparishcouncil-devon.gov.uk
DTSTAMP:20260424T082739Z
DTSTART;VALUE=DATE:20221107
DTEND;VALUE=DATE:20221108
SUMMARY:Council Meeting &#8211\\; 7 November 2022
DESCRIPTION:Full Council Meeting\nView details: https://slaptonparishcouncil-devon.gov.uk/meetings/council-meeting-7-november-2022/
URL:https://slaptonparishcouncil-devon.gov.uk/meetings/council-meeting-7-november-2022/
END:VEVENT
END:VCALENDAR
