BEGIN:VCALENDAR
VERSION:2.0
PRODID:-//Slapton Parish Council//Meeting Calendar//EN
CALSCALE:GREGORIAN
METHOD:PUBLISH
BEGIN:VEVENT
UID:69899-20190304@slaptonparishcouncil-devon.gov.uk
DTSTAMP:20260422T083712Z
DTSTART;VALUE=DATE:20190304
DTEND;VALUE=DATE:20190305
SUMMARY:Council Meeting &#8211\\; 4th March 2019
DESCRIPTION:Full Council Meeting\nView details: https://slaptonparishcouncil-devon.gov.uk/meetings/council-meeting-4th-march-2019/
URL:https://slaptonparishcouncil-devon.gov.uk/meetings/council-meeting-4th-march-2019/
END:VEVENT
END:VCALENDAR
