BEGIN:VCALENDAR
VERSION:2.0
PRODID:-//Slapton Parish Council//Meeting Calendar//EN
CALSCALE:GREGORIAN
METHOD:PUBLISH
BEGIN:VEVENT
UID:69886-20200311@slaptonparishcouncil-devon.gov.uk
DTSTAMP:20260420T082855Z
DTSTART;VALUE=DATE:20200311
DTEND;VALUE=DATE:20200312
SUMMARY:Annual Parish Meeting &#8211\\; 11th March 2020
DESCRIPTION:Full Council Meeting\nView details: https://slaptonparishcouncil-devon.gov.uk/meetings/annual-parish-meeting-11th-march-2020/
URL:https://slaptonparishcouncil-devon.gov.uk/meetings/annual-parish-meeting-11th-march-2020/
END:VEVENT
END:VCALENDAR
