BEGIN:VCALENDAR
VERSION:2.0
PRODID:-//Slapton Parish Council//Meeting Calendar//EN
CALSCALE:GREGORIAN
METHOD:PUBLISH
BEGIN:VEVENT
UID:69885-20200319@slaptonparishcouncil-devon.gov.uk
DTSTAMP:20260422T083751Z
DTSTART;VALUE=DATE:20200319
DTEND;VALUE=DATE:20200320
SUMMARY:Extraordinary Meeting &#8211\\; 19th March 2020
DESCRIPTION:Full Council Meeting\nView details: https://slaptonparishcouncil-devon.gov.uk/meetings/extraordinary-meeting-19th-march-2020/
URL:https://slaptonparishcouncil-devon.gov.uk/meetings/extraordinary-meeting-19th-march-2020/
END:VEVENT
END:VCALENDAR
