BEGIN:VCALENDAR
VERSION:2.0
PRODID:-//Slapton Parish Council//Meeting Calendar//EN
CALSCALE:GREGORIAN
METHOD:PUBLISH
BEGIN:VEVENT
UID:69880-20200813@slaptonparishcouncil-devon.gov.uk
DTSTAMP:20260420T082505Z
DTSTART;VALUE=DATE:20200813
DTEND;VALUE=DATE:20200814
SUMMARY:Extraordinary Meeting &#8211\\; 13th August 2020
DESCRIPTION:Full Council Meeting\nView details: https://slaptonparishcouncil-devon.gov.uk/meetings/extraordinary-meeting-13th-august-2020/
URL:https://slaptonparishcouncil-devon.gov.uk/meetings/extraordinary-meeting-13th-august-2020/
END:VEVENT
END:VCALENDAR
