BEGIN:VCALENDAR
VERSION:2.0
PRODID:-//Slapton Parish Council//Meeting Calendar//EN
CALSCALE:GREGORIAN
METHOD:PUBLISH
BEGIN:VEVENT
UID:69876-20201202@slaptonparishcouncil-devon.gov.uk
DTSTAMP:20260424T081836Z
DTSTART;VALUE=DATE:20201202
DTEND;VALUE=DATE:20201203
SUMMARY:Council Meeting &#8211\\; 2nd December 2020
DESCRIPTION:Full Council Meeting\nView details: https://slaptonparishcouncil-devon.gov.uk/meetings/council-meeting-2nd-december-2020/
URL:https://slaptonparishcouncil-devon.gov.uk/meetings/council-meeting-2nd-december-2020/
END:VEVENT
END:VCALENDAR
