BEGIN:VCALENDAR
VERSION:2.0
PRODID:-//Slapton Parish Council//Meeting Calendar//EN
CALSCALE:GREGORIAN
METHOD:PUBLISH
BEGIN:VEVENT
UID:69873-20210201@slaptonparishcouncil-devon.gov.uk
DTSTAMP:20260421T081459Z
DTSTART;VALUE=DATE:20210201
DTEND;VALUE=DATE:20210202
SUMMARY:Council Meeting &#8211\\; 1st February 2021
DESCRIPTION:Full Council Meeting\nView details: https://slaptonparishcouncil-devon.gov.uk/meetings/council-meeting-1st-february-2021/
URL:https://slaptonparishcouncil-devon.gov.uk/meetings/council-meeting-1st-february-2021/
END:VEVENT
END:VCALENDAR
