BEGIN:VCALENDAR
VERSION:2.0
PRODID:-//Slapton Parish Council//Meeting Calendar//EN
CALSCALE:GREGORIAN
METHOD:PUBLISH
BEGIN:VEVENT
UID:69870-20210503@slaptonparishcouncil-devon.gov.uk
DTSTAMP:20260421T082523Z
DTSTART;VALUE=DATE:20210503
DTEND;VALUE=DATE:20210504
SUMMARY:Annual Parish Meeting &#8211\\; 3rd May 2021
DESCRIPTION:Full Council Meeting\nView details: https://slaptonparishcouncil-devon.gov.uk/meetings/annual-parish-meeting-3rd-may-2021/
URL:https://slaptonparishcouncil-devon.gov.uk/meetings/annual-parish-meeting-3rd-may-2021/
END:VEVENT
END:VCALENDAR
