BEGIN:VCALENDAR
VERSION:2.0
PRODID:-//Slapton Parish Council//Meeting Calendar//EN
CALSCALE:GREGORIAN
METHOD:PUBLISH
BEGIN:VEVENT
UID:69866-20211004@slaptonparishcouncil-devon.gov.uk
DTSTAMP:20260420T080344Z
DTSTART;VALUE=DATE:20211004
DTEND;VALUE=DATE:20211005
SUMMARY:Council Meeting &#8211\\; 4th October 2021
DESCRIPTION:Full Council Meeting\nView details: https://slaptonparishcouncil-devon.gov.uk/meetings/council-meeting-4th-october-2021/
URL:https://slaptonparishcouncil-devon.gov.uk/meetings/council-meeting-4th-october-2021/
END:VEVENT
END:VCALENDAR
