BEGIN:VCALENDAR
VERSION:2.0
PRODID:-//Slapton Parish Council//Meeting Calendar//EN
CALSCALE:GREGORIAN
METHOD:PUBLISH
BEGIN:VEVENT
UID:69863-20220110@slaptonparishcouncil-devon.gov.uk
DTSTAMP:20260422T083818Z
DTSTART;VALUE=DATE:20220110
DTEND;VALUE=DATE:20220111
SUMMARY:Council Meeting &#8211\\; 10th January 2022
DESCRIPTION:Full Council Meeting\nView details: https://slaptonparishcouncil-devon.gov.uk/meetings/council-meeting-10th-january-2022/
URL:https://slaptonparishcouncil-devon.gov.uk/meetings/council-meeting-10th-january-2022/
END:VEVENT
END:VCALENDAR
