BEGIN:VCALENDAR
VERSION:2.0
PRODID:-//Slapton Parish Council//Meeting Calendar//EN
CALSCALE:GREGORIAN
METHOD:PUBLISH
BEGIN:VEVENT
UID:69862-20220207@slaptonparishcouncil-devon.gov.uk
DTSTAMP:20260420T082505Z
DTSTART;VALUE=DATE:20220207
DTEND;VALUE=DATE:20220208
SUMMARY:Council Meeting &#8211\\; 7th February 2022
DESCRIPTION:Full Council Meeting\nView details: https://slaptonparishcouncil-devon.gov.uk/meetings/council-meeting-7th-february-2022/
URL:https://slaptonparishcouncil-devon.gov.uk/meetings/council-meeting-7th-february-2022/
END:VEVENT
END:VCALENDAR
