BEGIN:VCALENDAR
VERSION:2.0
PRODID:-//Slapton Parish Council//Meeting Calendar//EN
CALSCALE:GREGORIAN
METHOD:PUBLISH
BEGIN:VEVENT
UID:69841-20221011@slaptonparishcouncil-devon.gov.uk
DTSTAMP:20260420T080228Z
DTSTART;VALUE=DATE:20221011
DTEND;VALUE=DATE:20221012
SUMMARY:CSG Meeting &#8211\\; 11th October 2022
DESCRIPTION:Community Support Group Meeting\nView details: https://slaptonparishcouncil-devon.gov.uk/meetings/community-support-group-meeting-11th-october-2022/
URL:https://slaptonparishcouncil-devon.gov.uk/meetings/community-support-group-meeting-11th-october-2022/
END:VEVENT
END:VCALENDAR
