BEGIN:VCALENDAR
VERSION:2.0
PRODID:-//Slapton Parish Council//Meeting Calendar//EN
CALSCALE:GREGORIAN
METHOD:PUBLISH
BEGIN:VEVENT
UID:69565-20220404@slaptonparishcouncil-devon.gov.uk
DTSTAMP:20260422T083712Z
DTSTART;VALUE=DATE:20220404
DTEND;VALUE=DATE:20220405
SUMMARY:Council Meetings &#8211\\; 4th April 2022
DESCRIPTION:Full Council Meeting\nView details: https://slaptonparishcouncil-devon.gov.uk/meetings/council-meetings-4th-april-2022/
URL:https://slaptonparishcouncil-devon.gov.uk/meetings/council-meetings-4th-april-2022/
END:VEVENT
END:VCALENDAR
