BEGIN:VCALENDAR
VERSION:2.0
PRODID:-//Slapton Parish Council//Meeting Calendar//EN
CALSCALE:GREGORIAN
METHOD:PUBLISH
BEGIN:VEVENT
UID:69561-20221003@slaptonparishcouncil-devon.gov.uk
DTSTAMP:20260422T083818Z
DTSTART;VALUE=DATE:20221003
DTEND;VALUE=DATE:20221004
SUMMARY:Council Meeting &#8211\\; 3rd October 2022
DESCRIPTION:Full Council Meeting\nView details: https://slaptonparishcouncil-devon.gov.uk/meetings/council-meeting-3rd-october-2022/
URL:https://slaptonparishcouncil-devon.gov.uk/meetings/council-meeting-3rd-october-2022/
END:VEVENT
END:VCALENDAR
